BEGIN:VCALENDAR
VERSION:2.0
PRODID:-//213.154.231.201//NONSGML kigkonsult.se iCalcreator 2.20//
CALSCALE:GREGORIAN
METHOD:PUBLISH
X-WR-TIMEZONE:Europe/Amsterdam
BEGIN:VEVENT
UID:event469@Piratenkoor "de Stormvogels"
DTSTAMP:20260420T050534Z
CATEGORIES:Openbaar   Derden
DESCRIPTION:Shanty festival Meppel\nCategorie: Openbaar   Derden\nLink: htt
 ps://www.piratenkoor.destormvogels.nl/index.php?option=com_jem&view=event&
 id=469:shanty-festival-meppel\n
DTSTART;TZID=Europe/Amsterdam:20250614T120000
DTEND;TZID=Europe/Amsterdam:20250614T164000
LOCATION:Meppel\,Meppel
SUMMARY:Shanty festival Meppel
URL:https://www.piratenkoor.destormvogels.nl/index.php?option=com_jem&view=
 event&id=469:shanty-festival-meppel
END:VEVENT
END:VCALENDAR